BEGIN:VCALENDAR
VERSION:2.0
PRODID:https://www.kufer.de/kuferweb / DE
METHOD:PUBLISH
CALSCALE:GREGORIAN
X-WR-TIMEZONE:Europe/Berlin
BEGIN:VTIMEZONE
TZID:Europe/Berlin
X-LIC-LOCATION:Europe/Berlin
BEGIN:DAYLIGHT
TZOFFSETFROM:+0100
TZOFFSETTO:+0200
TZNAME:CEST
DTSTART:19700329T020000
RRULE:FREQ=YEARLY;INTERVAL=1;BYDAY=-1SU;BYMONTH=3
END:DAYLIGHT
BEGIN:STANDARD
TZOFFSETFROM:+0200
TZOFFSETTO:+0100
TZNAME:CET
DTSTART:19701025T030000
RRULE:FREQ=YEARLY;INTERVAL=1;BYDAY=-1SU;BYMONTH=10
END:STANDARD
END:VTIMEZONE
BEGIN:VEVENT
DTSTAMP:20260421T035020
DTSTART;TZID=Europe/Berlin:20260810T090000
DTEND;TZID=Europe/Berlin:20260810T120000
UID:AJ2372-20260810T090000@VHSBLUDENZ
SUMMARY:NEU: Vier Elemente – Waldabenteuer mit allen Sinnen (8-12 Jahre) (AJ2372) 
LOCATION:Hüslerei, Obdorfweg 16, Bludenz, Obdorfweg 16, 6700 Bludenz
END:VEVENT
BEGIN:VEVENT
DTSTAMP:20260421T035020
DTSTART;TZID=Europe/Berlin:20260811T090000
DTEND;TZID=Europe/Berlin:20260811T120000
UID:AJ2372-20260811T090000@VHSBLUDENZ
SUMMARY:NEU: Vier Elemente – Waldabenteuer mit allen Sinnen (8-12 Jahre) (AJ2372) 
LOCATION:Hüslerei, Obdorfweg 16, Bludenz, Obdorfweg 16, 6700 Bludenz
END:VEVENT
BEGIN:VEVENT
DTSTAMP:20260421T035020
DTSTART;TZID=Europe/Berlin:20260812T090000
DTEND;TZID=Europe/Berlin:20260812T120000
UID:AJ2372-20260812T090000@VHSBLUDENZ
SUMMARY:NEU: Vier Elemente – Waldabenteuer mit allen Sinnen (8-12 Jahre) (AJ2372) 
LOCATION:Hüslerei, Obdorfweg 16, Bludenz, Obdorfweg 16, 6700 Bludenz
END:VEVENT
BEGIN:VEVENT
DTSTAMP:20260421T035020
DTSTART;TZID=Europe/Berlin:20260813T090000
DTEND;TZID=Europe/Berlin:20260813T120000
UID:AJ2372-20260813T090000@VHSBLUDENZ
SUMMARY:NEU: Vier Elemente – Waldabenteuer mit allen Sinnen (8-12 Jahre) (AJ2372) 
LOCATION:Hüslerei, Obdorfweg 16, Bludenz, Obdorfweg 16, 6700 Bludenz
END:VEVENT
END:VCALENDAR