BEGIN:VCALENDAR
VERSION:2.0
PRODID:https://www.kufer.de/kuferweb / DE
METHOD:PUBLISH
CALSCALE:GREGORIAN
X-WR-TIMEZONE:Europe/Berlin
BEGIN:VTIMEZONE
TZID:Europe/Berlin
X-LIC-LOCATION:Europe/Berlin
BEGIN:DAYLIGHT
TZOFFSETFROM:+0100
TZOFFSETTO:+0200
TZNAME:CEST
DTSTART:19700329T020000
RRULE:FREQ=YEARLY;INTERVAL=1;BYDAY=-1SU;BYMONTH=3
END:DAYLIGHT
BEGIN:STANDARD
TZOFFSETFROM:+0200
TZOFFSETTO:+0100
TZNAME:CET
DTSTART:19701025T030000
RRULE:FREQ=YEARLY;INTERVAL=1;BYDAY=-1SU;BYMONTH=10
END:STANDARD
END:VTIMEZONE
BEGIN:VEVENT
DTSTAMP:20260421T032835
DTSTART;TZID=Europe/Berlin:20260831T090000
DTEND;TZID=Europe/Berlin:20260831T120000
UID:AJ2375-20260831T090000@VHSBLUDENZ
SUMMARY:NEU:Spielerisch fit - Entdecke deine Stärke!  (6-8 Jahre) (AJ2375) 
LOCATION:Volksschule Bludenz-Mitte, Turnsaal, Sankt-Peter-Str 1, Bludenz, 6700 Bludenz
END:VEVENT
BEGIN:VEVENT
DTSTAMP:20260421T032835
DTSTART;TZID=Europe/Berlin:20260901T090000
DTEND;TZID=Europe/Berlin:20260901T120000
UID:AJ2375-20260901T090000@VHSBLUDENZ
SUMMARY:NEU:Spielerisch fit - Entdecke deine Stärke!  (6-8 Jahre) (AJ2375) 
LOCATION:Volksschule Bludenz-Mitte, Turnsaal, Sankt-Peter-Str 1, Bludenz, 6700 Bludenz
END:VEVENT
BEGIN:VEVENT
DTSTAMP:20260421T032835
DTSTART;TZID=Europe/Berlin:20260902T090000
DTEND;TZID=Europe/Berlin:20260902T120000
UID:AJ2375-20260902T090000@VHSBLUDENZ
SUMMARY:NEU:Spielerisch fit - Entdecke deine Stärke!  (6-8 Jahre) (AJ2375) 
LOCATION:Volksschule Bludenz-Mitte, Turnsaal, Sankt-Peter-Str 1, Bludenz, 6700 Bludenz
END:VEVENT
BEGIN:VEVENT
DTSTAMP:20260421T032835
DTSTART;TZID=Europe/Berlin:20260903T090000
DTEND;TZID=Europe/Berlin:20260903T120000
UID:AJ2375-20260903T090000@VHSBLUDENZ
SUMMARY:NEU:Spielerisch fit - Entdecke deine Stärke!  (6-8 Jahre) (AJ2375) 
LOCATION:Volksschule Bludenz-Mitte, Turnsaal, Sankt-Peter-Str 1, Bludenz, 6700 Bludenz
END:VEVENT
BEGIN:VEVENT
DTSTAMP:20260421T032835
DTSTART;TZID=Europe/Berlin:20260904T090000
DTEND;TZID=Europe/Berlin:20260904T120000
UID:AJ2375-20260904T090000@VHSBLUDENZ
SUMMARY:NEU:Spielerisch fit - Entdecke deine Stärke!  (6-8 Jahre) (AJ2375) 
LOCATION:Volksschule Bludenz-Mitte, Turnsaal, Sankt-Peter-Str 1, Bludenz, 6700 Bludenz
END:VEVENT
END:VCALENDAR