BEGIN:VCALENDAR
VERSION:2.0
PRODID:https://www.kufer.de/kuferweb / DE
METHOD:PUBLISH
CALSCALE:GREGORIAN
X-WR-TIMEZONE:Europe/Berlin
BEGIN:VTIMEZONE
TZID:Europe/Berlin
X-LIC-LOCATION:Europe/Berlin
BEGIN:DAYLIGHT
TZOFFSETFROM:+0100
TZOFFSETTO:+0200
TZNAME:CEST
DTSTART:19700329T020000
RRULE:FREQ=YEARLY;INTERVAL=1;BYDAY=-1SU;BYMONTH=3
END:DAYLIGHT
BEGIN:STANDARD
TZOFFSETFROM:+0200
TZOFFSETTO:+0100
TZNAME:CET
DTSTART:19701025T030000
RRULE:FREQ=YEARLY;INTERVAL=1;BYDAY=-1SU;BYMONTH=10
END:STANDARD
END:VTIMEZONE
BEGIN:VEVENT
DTSTAMP:20260421T033426
DTSTART;TZID=Europe/Berlin:20260303T180000
DTEND;TZID=Europe/Berlin:20260303T203000
UID:AJ5012-20260303T180000@VHSBLUDENZ
SUMMARY:Deutsch A1 Werte und Orientierungswissen, Abendkurs (AJ5012) 
LOCATION:VHS Bludenz (bei Fa. Stolz), Seminarraum 2, Zürcherstr. 48, 6700 Bludenz
END:VEVENT
BEGIN:VEVENT
DTSTAMP:20260421T033426
DTSTART;TZID=Europe/Berlin:20260304T180000
DTEND;TZID=Europe/Berlin:20260304T203000
UID:AJ5012-20260304T180000@VHSBLUDENZ
SUMMARY:Deutsch A1 Werte und Orientierungswissen, Abendkurs (AJ5012) 
LOCATION:VHS Bludenz (bei Fa. Stolz), Seminarraum 2, Zürcherstr. 48, 6700 Bludenz
END:VEVENT
BEGIN:VEVENT
DTSTAMP:20260421T033426
DTSTART;TZID=Europe/Berlin:20260305T180000
DTEND;TZID=Europe/Berlin:20260305T203000
UID:AJ5012-20260305T180000@VHSBLUDENZ
SUMMARY:Deutsch A1 Werte und Orientierungswissen, Abendkurs (AJ5012) 
LOCATION:VHS Bludenz (bei Fa. Stolz), Seminarraum 2, Zürcherstr. 48, 6700 Bludenz
END:VEVENT
BEGIN:VEVENT
DTSTAMP:20260421T033426
DTSTART;TZID=Europe/Berlin:20260310T180000
DTEND;TZID=Europe/Berlin:20260310T203000
UID:AJ5012-20260310T180000@VHSBLUDENZ
SUMMARY:Deutsch A1 Werte und Orientierungswissen, Abendkurs (AJ5012) 
LOCATION:VHS Bludenz (bei Fa. Stolz), Seminarraum 2, Zürcherstr. 48, 6700 Bludenz
END:VEVENT
BEGIN:VEVENT
DTSTAMP:20260421T033426
DTSTART;TZID=Europe/Berlin:20260311T180000
DTEND;TZID=Europe/Berlin:20260311T203000
UID:AJ5012-20260311T180000@VHSBLUDENZ
SUMMARY:Deutsch A1 Werte und Orientierungswissen, Abendkurs (AJ5012) 
LOCATION:VHS Bludenz (bei Fa. Stolz), Seminarraum 2, Zürcherstr. 48, 6700 Bludenz
END:VEVENT
BEGIN:VEVENT
DTSTAMP:20260421T033426
DTSTART;TZID=Europe/Berlin:20260312T180000
DTEND;TZID=Europe/Berlin:20260312T203000
UID:AJ5012-20260312T180000@VHSBLUDENZ
SUMMARY:Deutsch A1 Werte und Orientierungswissen, Abendkurs (AJ5012) 
LOCATION:VHS Bludenz (bei Fa. Stolz), Seminarraum 2, Zürcherstr. 48, 6700 Bludenz
END:VEVENT
BEGIN:VEVENT
DTSTAMP:20260421T033426
DTSTART;TZID=Europe/Berlin:20260317T180000
DTEND;TZID=Europe/Berlin:20260317T203000
UID:AJ5012-20260317T180000@VHSBLUDENZ
SUMMARY:Deutsch A1 Werte und Orientierungswissen, Abendkurs (AJ5012) 
LOCATION:VHS Bludenz (bei Fa. Stolz), Seminarraum 2, Zürcherstr. 48, 6700 Bludenz
END:VEVENT
BEGIN:VEVENT
DTSTAMP:20260421T033426
DTSTART;TZID=Europe/Berlin:20260318T180000
DTEND;TZID=Europe/Berlin:20260318T203000
UID:AJ5012-20260318T180000@VHSBLUDENZ
SUMMARY:Deutsch A1 Werte und Orientierungswissen, Abendkurs (AJ5012) 
LOCATION:VHS Bludenz (bei Fa. Stolz), Seminarraum 2, Zürcherstr. 48, 6700 Bludenz
END:VEVENT
BEGIN:VEVENT
DTSTAMP:20260421T033426
DTSTART;TZID=Europe/Berlin:20260324T180000
DTEND;TZID=Europe/Berlin:20260324T203000
UID:AJ5012-20260324T180000@VHSBLUDENZ
SUMMARY:Deutsch A1 Werte und Orientierungswissen, Abendkurs (AJ5012) 
LOCATION:VHS Bludenz (bei Fa. Stolz), Seminarraum 2, Zürcherstr. 48, 6700 Bludenz
END:VEVENT
BEGIN:VEVENT
DTSTAMP:20260421T033426
DTSTART;TZID=Europe/Berlin:20260325T180000
DTEND;TZID=Europe/Berlin:20260325T203000
UID:AJ5012-20260325T180000@VHSBLUDENZ
SUMMARY:Deutsch A1 Werte und Orientierungswissen, Abendkurs (AJ5012) 
LOCATION:VHS Bludenz (bei Fa. Stolz), Seminarraum 2, Zürcherstr. 48, 6700 Bludenz
END:VEVENT
BEGIN:VEVENT
DTSTAMP:20260421T033426
DTSTART;TZID=Europe/Berlin:20260326T180000
DTEND;TZID=Europe/Berlin:20260326T203000
UID:AJ5012-20260326T180000@VHSBLUDENZ
SUMMARY:Deutsch A1 Werte und Orientierungswissen, Abendkurs (AJ5012) 
LOCATION:VHS Bludenz (bei Fa. Stolz), Seminarraum 2, Zürcherstr. 48, 6700 Bludenz
END:VEVENT
BEGIN:VEVENT
DTSTAMP:20260421T033426
DTSTART;TZID=Europe/Berlin:20260408T180000
DTEND;TZID=Europe/Berlin:20260408T203000
UID:AJ5012-20260408T180000@VHSBLUDENZ
SUMMARY:Deutsch A1 Werte und Orientierungswissen, Abendkurs (AJ5012) 
LOCATION:VHS Bludenz (bei Fa. Stolz), Seminarraum 2, Zürcherstr. 48, 6700 Bludenz
END:VEVENT
BEGIN:VEVENT
DTSTAMP:20260421T033426
DTSTART;TZID=Europe/Berlin:20260413T184000
DTEND;TZID=Europe/Berlin:20260413T211000
UID:AJ5012-20260413T184000@VHSBLUDENZ
DESCRIPTION:statt 09.04.
SUMMARY:Deutsch A1 Werte und Orientierungswissen, Abendkurs (AJ5012) 
LOCATION:VHS Bludenz (bei Fa. Stolz), Seminarraum 2, Zürcherstr. 48, 6700 Bludenz
END:VEVENT
BEGIN:VEVENT
DTSTAMP:20260421T033426
DTSTART;TZID=Europe/Berlin:20260414T180000
DTEND;TZID=Europe/Berlin:20260414T203000
UID:AJ5012-20260414T180000@VHSBLUDENZ
SUMMARY:Deutsch A1 Werte und Orientierungswissen, Abendkurs (AJ5012) 
LOCATION:VHS Bludenz (bei Fa. Stolz), Seminarraum 2, Zürcherstr. 48, 6700 Bludenz
END:VEVENT
BEGIN:VEVENT
DTSTAMP:20260421T033426
DTSTART;TZID=Europe/Berlin:20260415T180000
DTEND;TZID=Europe/Berlin:20260415T203000
UID:AJ5012-20260415T180000@VHSBLUDENZ
SUMMARY:Deutsch A1 Werte und Orientierungswissen, Abendkurs (AJ5012) 
LOCATION:VHS Bludenz (bei Fa. Stolz), Seminarraum 2, Zürcherstr. 48, 6700 Bludenz
END:VEVENT
BEGIN:VEVENT
DTSTAMP:20260421T033426
DTSTART;TZID=Europe/Berlin:20260420T184000
DTEND;TZID=Europe/Berlin:20260420T211000
UID:AJ5012-20260420T184000@VHSBLUDENZ
DESCRIPTION:statt 16.04.
SUMMARY:Deutsch A1 Werte und Orientierungswissen, Abendkurs (AJ5012) 
LOCATION:VHS Bludenz (bei Fa. Stolz), Seminarraum 2, Zürcherstr. 48, 6700 Bludenz
END:VEVENT
BEGIN:VEVENT
DTSTAMP:20260421T033426
DTSTART;TZID=Europe/Berlin:20260421T180000
DTEND;TZID=Europe/Berlin:20260421T203000
UID:AJ5012-20260421T180000@VHSBLUDENZ
SUMMARY:Deutsch A1 Werte und Orientierungswissen, Abendkurs (AJ5012) 
LOCATION:VHS Bludenz (bei Fa. Stolz), Seminarraum 2, Zürcherstr. 48, 6700 Bludenz
END:VEVENT
BEGIN:VEVENT
DTSTAMP:20260421T033426
DTSTART;TZID=Europe/Berlin:20260422T180000
DTEND;TZID=Europe/Berlin:20260422T203000
UID:AJ5012-20260422T180000@VHSBLUDENZ
SUMMARY:Deutsch A1 Werte und Orientierungswissen, Abendkurs (AJ5012) 
LOCATION:VHS Bludenz (bei Fa. Stolz), Seminarraum 2, Zürcherstr. 48, 6700 Bludenz
END:VEVENT
BEGIN:VEVENT
DTSTAMP:20260421T033426
DTSTART;TZID=Europe/Berlin:20260427T184000
DTEND;TZID=Europe/Berlin:20260427T211000
UID:AJ5012-20260427T184000@VHSBLUDENZ
DESCRIPTION:statt 23.04.
SUMMARY:Deutsch A1 Werte und Orientierungswissen, Abendkurs (AJ5012) 
LOCATION:VHS Bludenz (bei Fa. Stolz), Seminarraum 2, Zürcherstr. 48, 6700 Bludenz
END:VEVENT
BEGIN:VEVENT
DTSTAMP:20260421T033426
DTSTART;TZID=Europe/Berlin:20260428T180000
DTEND;TZID=Europe/Berlin:20260428T203000
UID:AJ5012-20260428T180000@VHSBLUDENZ
SUMMARY:Deutsch A1 Werte und Orientierungswissen, Abendkurs (AJ5012) 
LOCATION:VHS Bludenz (bei Fa. Stolz), Seminarraum 2, Zürcherstr. 48, 6700 Bludenz
END:VEVENT
BEGIN:VEVENT
DTSTAMP:20260421T033426
DTSTART;TZID=Europe/Berlin:20260429T180000
DTEND;TZID=Europe/Berlin:20260429T203000
UID:AJ5012-20260429T180000@VHSBLUDENZ
SUMMARY:Deutsch A1 Werte und Orientierungswissen, Abendkurs (AJ5012) 
LOCATION:VHS Bludenz (bei Fa. Stolz), Seminarraum 2, Zürcherstr. 48, 6700 Bludenz
END:VEVENT
BEGIN:VEVENT
DTSTAMP:20260421T033426
DTSTART;TZID=Europe/Berlin:20260504T184000
DTEND;TZID=Europe/Berlin:20260504T211000
UID:AJ5012-20260504T184000@VHSBLUDENZ
DESCRIPTION:statt 30.04.
SUMMARY:Deutsch A1 Werte und Orientierungswissen, Abendkurs (AJ5012) 
LOCATION:VHS Bludenz (bei Fa. Stolz), Seminarraum 2, Zürcherstr. 48, 6700 Bludenz
END:VEVENT
BEGIN:VEVENT
DTSTAMP:20260421T033426
DTSTART;TZID=Europe/Berlin:20260505T180000
DTEND;TZID=Europe/Berlin:20260505T203000
UID:AJ5012-20260505T180000@VHSBLUDENZ
SUMMARY:Deutsch A1 Werte und Orientierungswissen, Abendkurs (AJ5012) 
LOCATION:VHS Bludenz (bei Fa. Stolz), Seminarraum 2, Zürcherstr. 48, 6700 Bludenz
END:VEVENT
BEGIN:VEVENT
DTSTAMP:20260421T033426
DTSTART;TZID=Europe/Berlin:20260506T180000
DTEND;TZID=Europe/Berlin:20260506T203000
UID:AJ5012-20260506T180000@VHSBLUDENZ
SUMMARY:Deutsch A1 Werte und Orientierungswissen, Abendkurs (AJ5012) 
LOCATION:VHS Bludenz (bei Fa. Stolz), Seminarraum 2, Zürcherstr. 48, 6700 Bludenz
END:VEVENT
BEGIN:VEVENT
DTSTAMP:20260421T033426
DTSTART;TZID=Europe/Berlin:20260511T184000
DTEND;TZID=Europe/Berlin:20260511T211000
UID:AJ5012-20260511T184000@VHSBLUDENZ
DESCRIPTION:statt 07.05.
SUMMARY:Deutsch A1 Werte und Orientierungswissen, Abendkurs (AJ5012) 
LOCATION:VHS Bludenz (bei Fa. Stolz), Seminarraum 2, Zürcherstr. 48, 6700 Bludenz
END:VEVENT
BEGIN:VEVENT
DTSTAMP:20260421T033426
DTSTART;TZID=Europe/Berlin:20260512T180000
DTEND;TZID=Europe/Berlin:20260512T203000
UID:AJ5012-20260512T180000@VHSBLUDENZ
SUMMARY:Deutsch A1 Werte und Orientierungswissen, Abendkurs (AJ5012) 
LOCATION:VHS Bludenz (bei Fa. Stolz), Seminarraum 2, Zürcherstr. 48, 6700 Bludenz
END:VEVENT
BEGIN:VEVENT
DTSTAMP:20260421T033426
DTSTART;TZID=Europe/Berlin:20260513T180000
DTEND;TZID=Europe/Berlin:20260513T203000
UID:AJ5012-20260513T180000@VHSBLUDENZ
SUMMARY:Deutsch A1 Werte und Orientierungswissen, Abendkurs (AJ5012) 
LOCATION:VHS Bludenz (bei Fa. Stolz), Seminarraum 2, Zürcherstr. 48, 6700 Bludenz
END:VEVENT
BEGIN:VEVENT
DTSTAMP:20260421T033426
DTSTART;TZID=Europe/Berlin:20260518T184000
DTEND;TZID=Europe/Berlin:20260518T211000
UID:AJ5012-20260518T184000@VHSBLUDENZ
DESCRIPTION:statt 21.05.
SUMMARY:Deutsch A1 Werte und Orientierungswissen, Abendkurs (AJ5012) 
LOCATION:VHS Bludenz (bei Fa. Stolz), Seminarraum 2, Zürcherstr. 48, 6700 Bludenz
END:VEVENT
BEGIN:VEVENT
DTSTAMP:20260421T033426
DTSTART;TZID=Europe/Berlin:20260519T180000
DTEND;TZID=Europe/Berlin:20260519T203000
UID:AJ5012-20260519T180000@VHSBLUDENZ
SUMMARY:Deutsch A1 Werte und Orientierungswissen, Abendkurs (AJ5012) 
LOCATION:VHS Bludenz (bei Fa. Stolz), Seminarraum 2, Zürcherstr. 48, 6700 Bludenz
END:VEVENT
BEGIN:VEVENT
DTSTAMP:20260421T033426
DTSTART;TZID=Europe/Berlin:20260520T180000
DTEND;TZID=Europe/Berlin:20260520T203000
UID:AJ5012-20260520T180000@VHSBLUDENZ
SUMMARY:Deutsch A1 Werte und Orientierungswissen, Abendkurs (AJ5012) 
LOCATION:VHS Bludenz (bei Fa. Stolz), Seminarraum 2, Zürcherstr. 48, 6700 Bludenz
END:VEVENT
BEGIN:VEVENT
DTSTAMP:20260421T033426
DTSTART;TZID=Europe/Berlin:20260526T180000
DTEND;TZID=Europe/Berlin:20260526T203000
UID:AJ5012-20260526T180000@VHSBLUDENZ
SUMMARY:Deutsch A1 Werte und Orientierungswissen, Abendkurs (AJ5012) 
LOCATION:VHS Bludenz (bei Fa. Stolz), Seminarraum 2, Zürcherstr. 48, 6700 Bludenz
END:VEVENT
BEGIN:VEVENT
DTSTAMP:20260421T033426
DTSTART;TZID=Europe/Berlin:20260527T180000
DTEND;TZID=Europe/Berlin:20260527T203000
UID:AJ5012-20260527T180000@VHSBLUDENZ
SUMMARY:Deutsch A1 Werte und Orientierungswissen, Abendkurs (AJ5012) 
LOCATION:VHS Bludenz (bei Fa. Stolz), Seminarraum 2, Zürcherstr. 48, 6700 Bludenz
END:VEVENT
BEGIN:VEVENT
DTSTAMP:20260421T033426
DTSTART;TZID=Europe/Berlin:20260528T180000
DTEND;TZID=Europe/Berlin:20260528T203000
UID:AJ5012-20260528T180000@VHSBLUDENZ
SUMMARY:Deutsch A1 Werte und Orientierungswissen, Abendkurs (AJ5012) 
LOCATION:VHS Bludenz (bei Fa. Stolz), Seminarraum 2, Zürcherstr. 48, 6700 Bludenz
END:VEVENT
BEGIN:VEVENT
DTSTAMP:20260421T033426
DTSTART;TZID=Europe/Berlin:20260602T180000
DTEND;TZID=Europe/Berlin:20260602T203000
UID:AJ5012-20260602T180000@VHSBLUDENZ
SUMMARY:Deutsch A1 Werte und Orientierungswissen, Abendkurs (AJ5012) 
LOCATION:VHS Bludenz (bei Fa. Stolz), Seminarraum 2, Zürcherstr. 48, 6700 Bludenz
END:VEVENT
BEGIN:VEVENT
DTSTAMP:20260421T033426
DTSTART;TZID=Europe/Berlin:20260603T180000
DTEND;TZID=Europe/Berlin:20260603T203000
UID:AJ5012-20260603T180000@VHSBLUDENZ
SUMMARY:Deutsch A1 Werte und Orientierungswissen, Abendkurs (AJ5012) 
LOCATION:VHS Bludenz (bei Fa. Stolz), Seminarraum 2, Zürcherstr. 48, 6700 Bludenz
END:VEVENT
BEGIN:VEVENT
DTSTAMP:20260421T033426
DTSTART;TZID=Europe/Berlin:20260609T180000
DTEND;TZID=Europe/Berlin:20260609T203000
UID:AJ5012-20260609T180000@VHSBLUDENZ
SUMMARY:Deutsch A1 Werte und Orientierungswissen, Abendkurs (AJ5012) 
LOCATION:VHS Bludenz (bei Fa. Stolz), Seminarraum 2, Zürcherstr. 48, 6700 Bludenz
END:VEVENT
BEGIN:VEVENT
DTSTAMP:20260421T033426
DTSTART;TZID=Europe/Berlin:20260610T180000
DTEND;TZID=Europe/Berlin:20260610T203000
UID:AJ5012-20260610T180000@VHSBLUDENZ
SUMMARY:Deutsch A1 Werte und Orientierungswissen, Abendkurs (AJ5012) 
LOCATION:VHS Bludenz (bei Fa. Stolz), Seminarraum 2, Zürcherstr. 48, 6700 Bludenz
END:VEVENT
BEGIN:VEVENT
DTSTAMP:20260421T033426
DTSTART;TZID=Europe/Berlin:20260611T180000
DTEND;TZID=Europe/Berlin:20260611T203000
UID:AJ5012-20260611T180000@VHSBLUDENZ
SUMMARY:Deutsch A1 Werte und Orientierungswissen, Abendkurs (AJ5012) 
LOCATION:VHS Bludenz (bei Fa. Stolz), Seminarraum 2, Zürcherstr. 48, 6700 Bludenz
END:VEVENT
BEGIN:VEVENT
DTSTAMP:20260421T033426
DTSTART;TZID=Europe/Berlin:20260616T180000
DTEND;TZID=Europe/Berlin:20260616T203000
UID:AJ5012-20260616T180000@VHSBLUDENZ
SUMMARY:Deutsch A1 Werte und Orientierungswissen, Abendkurs (AJ5012) 
LOCATION:VHS Bludenz (bei Fa. Stolz), Seminarraum 2, Zürcherstr. 48, 6700 Bludenz
END:VEVENT
BEGIN:VEVENT
DTSTAMP:20260421T033426
DTSTART;TZID=Europe/Berlin:20260617T180000
DTEND;TZID=Europe/Berlin:20260617T203000
UID:AJ5012-20260617T180000@VHSBLUDENZ
SUMMARY:Deutsch A1 Werte und Orientierungswissen, Abendkurs (AJ5012) 
LOCATION:VHS Bludenz (bei Fa. Stolz), Seminarraum 2, Zürcherstr. 48, 6700 Bludenz
END:VEVENT
BEGIN:VEVENT
DTSTAMP:20260421T033426
DTSTART;TZID=Europe/Berlin:20260618T180000
DTEND;TZID=Europe/Berlin:20260618T203000
UID:AJ5012-20260618T180000@VHSBLUDENZ
SUMMARY:Deutsch A1 Werte und Orientierungswissen, Abendkurs (AJ5012) 
LOCATION:VHS Bludenz (bei Fa. Stolz), Seminarraum 2, Zürcherstr. 48, 6700 Bludenz
END:VEVENT
BEGIN:VEVENT
DTSTAMP:20260421T033426
DTSTART;TZID=Europe/Berlin:20260623T180000
DTEND;TZID=Europe/Berlin:20260623T203000
UID:AJ5012-20260623T180000@VHSBLUDENZ
SUMMARY:Deutsch A1 Werte und Orientierungswissen, Abendkurs (AJ5012) 
LOCATION:VHS Bludenz (bei Fa. Stolz), Seminarraum 2, Zürcherstr. 48, 6700 Bludenz
END:VEVENT
BEGIN:VEVENT
DTSTAMP:20260421T033426
DTSTART;TZID=Europe/Berlin:20260624T180000
DTEND;TZID=Europe/Berlin:20260624T203000
UID:AJ5012-20260624T180000@VHSBLUDENZ
SUMMARY:Deutsch A1 Werte und Orientierungswissen, Abendkurs (AJ5012) 
LOCATION:VHS Bludenz (bei Fa. Stolz), Seminarraum 2, Zürcherstr. 48, 6700 Bludenz
END:VEVENT
BEGIN:VEVENT
DTSTAMP:20260421T033426
DTSTART;TZID=Europe/Berlin:20260625T180000
DTEND;TZID=Europe/Berlin:20260625T203000
UID:AJ5012-20260625T180000@VHSBLUDENZ
SUMMARY:Deutsch A1 Werte und Orientierungswissen, Abendkurs (AJ5012) 
LOCATION:VHS Bludenz (bei Fa. Stolz), Seminarraum 2, Zürcherstr. 48, 6700 Bludenz
END:VEVENT
BEGIN:VEVENT
DTSTAMP:20260421T033426
DTSTART;TZID=Europe/Berlin:20260630T180000
DTEND;TZID=Europe/Berlin:20260630T203000
UID:AJ5012-20260630T180000@VHSBLUDENZ
SUMMARY:Deutsch A1 Werte und Orientierungswissen, Abendkurs (AJ5012) 
LOCATION:VHS Bludenz (bei Fa. Stolz), Seminarraum 2, Zürcherstr. 48, 6700 Bludenz
END:VEVENT
BEGIN:VEVENT
DTSTAMP:20260421T033426
DTSTART;TZID=Europe/Berlin:20260701T180000
DTEND;TZID=Europe/Berlin:20260701T203000
UID:AJ5012-20260701T180000@VHSBLUDENZ
SUMMARY:Deutsch A1 Werte und Orientierungswissen, Abendkurs (AJ5012) 
LOCATION:VHS Bludenz (bei Fa. Stolz), Seminarraum 2, Zürcherstr. 48, 6700 Bludenz
END:VEVENT
BEGIN:VEVENT
DTSTAMP:20260421T033426
DTSTART;TZID=Europe/Berlin:20260702T180000
DTEND;TZID=Europe/Berlin:20260702T203000
UID:AJ5012-20260702T180000@VHSBLUDENZ
SUMMARY:Deutsch A1 Werte und Orientierungswissen, Abendkurs (AJ5012) 
LOCATION:VHS Bludenz (bei Fa. Stolz), Seminarraum 2, Zürcherstr. 48, 6700 Bludenz
END:VEVENT
BEGIN:VEVENT
DTSTAMP:20260421T033426
DTSTART;TZID=Europe/Berlin:20260707T180000
DTEND;TZID=Europe/Berlin:20260707T203000
UID:AJ5012-20260707T180000@VHSBLUDENZ
SUMMARY:Deutsch A1 Werte und Orientierungswissen, Abendkurs (AJ5012) 
LOCATION:VHS Bludenz (bei Fa. Stolz), Seminarraum 2, Zürcherstr. 48, 6700 Bludenz
END:VEVENT
BEGIN:VEVENT
DTSTAMP:20260421T033426
DTSTART;TZID=Europe/Berlin:20260708T180000
DTEND;TZID=Europe/Berlin:20260708T203000
UID:AJ5012-20260708T180000@VHSBLUDENZ
SUMMARY:Deutsch A1 Werte und Orientierungswissen, Abendkurs (AJ5012) 
LOCATION:VHS Bludenz (bei Fa. Stolz), Seminarraum 2, Zürcherstr. 48, 6700 Bludenz
END:VEVENT
BEGIN:VEVENT
DTSTAMP:20260421T033426
DTSTART;TZID=Europe/Berlin:20260709T180000
DTEND;TZID=Europe/Berlin:20260709T203000
UID:AJ5012-20260709T180000@VHSBLUDENZ
DESCRIPTION:statt 8.4.
SUMMARY:Deutsch A1 Werte und Orientierungswissen, Abendkurs (AJ5012) 
LOCATION:VHS Bludenz (bei Fa. Stolz), Seminarraum 2, Zürcherstr. 48, 6700 Bludenz
END:VEVENT
END:VCALENDAR