BEGIN:VCALENDAR
VERSION:2.0
PRODID:https://www.kufer.de/kuferweb / DE
METHOD:PUBLISH
CALSCALE:GREGORIAN
X-WR-TIMEZONE:Europe/Berlin
BEGIN:VTIMEZONE
TZID:Europe/Berlin
X-LIC-LOCATION:Europe/Berlin
BEGIN:DAYLIGHT
TZOFFSETFROM:+0100
TZOFFSETTO:+0200
TZNAME:CEST
DTSTART:19700329T020000
RRULE:FREQ=YEARLY;INTERVAL=1;BYDAY=-1SU;BYMONTH=3
END:DAYLIGHT
BEGIN:STANDARD
TZOFFSETFROM:+0200
TZOFFSETTO:+0100
TZNAME:CET
DTSTART:19701025T030000
RRULE:FREQ=YEARLY;INTERVAL=1;BYDAY=-1SU;BYMONTH=10
END:STANDARD
END:VTIMEZONE
BEGIN:VEVENT
DTSTAMP:20260420T190444
DTSTART;TZID=Europe/Berlin:20260703T140000
DTEND;TZID=Europe/Berlin:20260703T200000
UID:AJ6205-20260703T140000@VHSBLUDENZ
SUMMARY:Musizieren und Singen am Lagerfeuer - Workshop für Gitarre und Ukulele (AJ6205) 
LOCATION:Hummelhof, Tanja Moser, Außerberg 33, Bürserberg, Außerberg 33, 6707 Bürserberg
END:VEVENT
END:VCALENDAR