BEGIN:VCALENDAR
VERSION:2.0
PRODID:https://www.kufer.de/kuferweb / DE
METHOD:PUBLISH
CALSCALE:GREGORIAN
X-WR-TIMEZONE:Europe/Berlin
BEGIN:VTIMEZONE
TZID:Europe/Berlin
X-LIC-LOCATION:Europe/Berlin
BEGIN:DAYLIGHT
TZOFFSETFROM:+0100
TZOFFSETTO:+0200
TZNAME:CEST
DTSTART:19700329T020000
RRULE:FREQ=YEARLY;INTERVAL=1;BYDAY=-1SU;BYMONTH=3
END:DAYLIGHT
BEGIN:STANDARD
TZOFFSETFROM:+0200
TZOFFSETTO:+0100
TZNAME:CET
DTSTART:19701025T030000
RRULE:FREQ=YEARLY;INTERVAL=1;BYDAY=-1SU;BYMONTH=10
END:STANDARD
END:VTIMEZONE
BEGIN:VEVENT
DTSTAMP:20260421T034724
DTSTART;TZID=Europe/Berlin:20260917T083000
DTEND;TZID=Europe/Berlin:20260917T113000
UID:AK5030-20260917T083000@VHSBLUDENZ
SUMMARY:Deutsch B1 Werte und Orientierungswissen, Vormittagskurs (AK5030) 
LOCATION:VHS Bludenz (bei Fa. Stolz), Seminarraum 1, Zürcherstr. 48, 6700 Bludenz
END:VEVENT
BEGIN:VEVENT
DTSTAMP:20260421T034724
DTSTART;TZID=Europe/Berlin:20260918T083000
DTEND;TZID=Europe/Berlin:20260918T113000
UID:AK5030-20260918T083000@VHSBLUDENZ
SUMMARY:Deutsch B1 Werte und Orientierungswissen, Vormittagskurs (AK5030) 
LOCATION:VHS Bludenz (bei Fa. Stolz), Seminarraum 1, Zürcherstr. 48, 6700 Bludenz
END:VEVENT
BEGIN:VEVENT
DTSTAMP:20260421T034724
DTSTART;TZID=Europe/Berlin:20260921T083000
DTEND;TZID=Europe/Berlin:20260921T113000
UID:AK5030-20260921T083000@VHSBLUDENZ
SUMMARY:Deutsch B1 Werte und Orientierungswissen, Vormittagskurs (AK5030) 
LOCATION:VHS Bludenz (bei Fa. Stolz), Seminarraum 1, Zürcherstr. 48, 6700 Bludenz
END:VEVENT
BEGIN:VEVENT
DTSTAMP:20260421T034724
DTSTART;TZID=Europe/Berlin:20260922T083000
DTEND;TZID=Europe/Berlin:20260922T113000
UID:AK5030-20260922T083000@VHSBLUDENZ
SUMMARY:Deutsch B1 Werte und Orientierungswissen, Vormittagskurs (AK5030) 
LOCATION:VHS Bludenz (bei Fa. Stolz), Seminarraum 1, Zürcherstr. 48, 6700 Bludenz
END:VEVENT
BEGIN:VEVENT
DTSTAMP:20260421T034724
DTSTART;TZID=Europe/Berlin:20260924T083000
DTEND;TZID=Europe/Berlin:20260924T113000
UID:AK5030-20260924T083000@VHSBLUDENZ
SUMMARY:Deutsch B1 Werte und Orientierungswissen, Vormittagskurs (AK5030) 
LOCATION:VHS Bludenz (bei Fa. Stolz), Seminarraum 1, Zürcherstr. 48, 6700 Bludenz
END:VEVENT
BEGIN:VEVENT
DTSTAMP:20260421T034724
DTSTART;TZID=Europe/Berlin:20260925T083000
DTEND;TZID=Europe/Berlin:20260925T113000
UID:AK5030-20260925T083000@VHSBLUDENZ
SUMMARY:Deutsch B1 Werte und Orientierungswissen, Vormittagskurs (AK5030) 
LOCATION:VHS Bludenz (bei Fa. Stolz), Seminarraum 1, Zürcherstr. 48, 6700 Bludenz
END:VEVENT
BEGIN:VEVENT
DTSTAMP:20260421T034724
DTSTART;TZID=Europe/Berlin:20260928T083000
DTEND;TZID=Europe/Berlin:20260928T113000
UID:AK5030-20260928T083000@VHSBLUDENZ
SUMMARY:Deutsch B1 Werte und Orientierungswissen, Vormittagskurs (AK5030) 
LOCATION:VHS Bludenz (bei Fa. Stolz), Seminarraum 1, Zürcherstr. 48, 6700 Bludenz
END:VEVENT
BEGIN:VEVENT
DTSTAMP:20260421T034724
DTSTART;TZID=Europe/Berlin:20260929T083000
DTEND;TZID=Europe/Berlin:20260929T113000
UID:AK5030-20260929T083000@VHSBLUDENZ
SUMMARY:Deutsch B1 Werte und Orientierungswissen, Vormittagskurs (AK5030) 
LOCATION:VHS Bludenz (bei Fa. Stolz), Seminarraum 1, Zürcherstr. 48, 6700 Bludenz
END:VEVENT
BEGIN:VEVENT
DTSTAMP:20260421T034724
DTSTART;TZID=Europe/Berlin:20261001T083000
DTEND;TZID=Europe/Berlin:20261001T113000
UID:AK5030-20261001T083000@VHSBLUDENZ
SUMMARY:Deutsch B1 Werte und Orientierungswissen, Vormittagskurs (AK5030) 
LOCATION:VHS Bludenz (bei Fa. Stolz), Seminarraum 1, Zürcherstr. 48, 6700 Bludenz
END:VEVENT
BEGIN:VEVENT
DTSTAMP:20260421T034724
DTSTART;TZID=Europe/Berlin:20261002T083000
DTEND;TZID=Europe/Berlin:20261002T113000
UID:AK5030-20261002T083000@VHSBLUDENZ
SUMMARY:Deutsch B1 Werte und Orientierungswissen, Vormittagskurs (AK5030) 
LOCATION:VHS Bludenz (bei Fa. Stolz), Seminarraum 1, Zürcherstr. 48, 6700 Bludenz
END:VEVENT
BEGIN:VEVENT
DTSTAMP:20260421T034724
DTSTART;TZID=Europe/Berlin:20261005T083000
DTEND;TZID=Europe/Berlin:20261005T113000
UID:AK5030-20261005T083000@VHSBLUDENZ
SUMMARY:Deutsch B1 Werte und Orientierungswissen, Vormittagskurs (AK5030) 
LOCATION:VHS Bludenz (bei Fa. Stolz), Seminarraum 1, Zürcherstr. 48, 6700 Bludenz
END:VEVENT
BEGIN:VEVENT
DTSTAMP:20260421T034724
DTSTART;TZID=Europe/Berlin:20261006T083000
DTEND;TZID=Europe/Berlin:20261006T113000
UID:AK5030-20261006T083000@VHSBLUDENZ
SUMMARY:Deutsch B1 Werte und Orientierungswissen, Vormittagskurs (AK5030) 
LOCATION:VHS Bludenz (bei Fa. Stolz), Seminarraum 1, Zürcherstr. 48, 6700 Bludenz
END:VEVENT
BEGIN:VEVENT
DTSTAMP:20260421T034724
DTSTART;TZID=Europe/Berlin:20261008T083000
DTEND;TZID=Europe/Berlin:20261008T113000
UID:AK5030-20261008T083000@VHSBLUDENZ
SUMMARY:Deutsch B1 Werte und Orientierungswissen, Vormittagskurs (AK5030) 
LOCATION:VHS Bludenz (bei Fa. Stolz), Seminarraum 1, Zürcherstr. 48, 6700 Bludenz
END:VEVENT
BEGIN:VEVENT
DTSTAMP:20260421T034724
DTSTART;TZID=Europe/Berlin:20261009T083000
DTEND;TZID=Europe/Berlin:20261009T113000
UID:AK5030-20261009T083000@VHSBLUDENZ
SUMMARY:Deutsch B1 Werte und Orientierungswissen, Vormittagskurs (AK5030) 
LOCATION:VHS Bludenz (bei Fa. Stolz), Seminarraum 1, Zürcherstr. 48, 6700 Bludenz
END:VEVENT
BEGIN:VEVENT
DTSTAMP:20260421T034724
DTSTART;TZID=Europe/Berlin:20261012T083000
DTEND;TZID=Europe/Berlin:20261012T113000
UID:AK5030-20261012T083000@VHSBLUDENZ
SUMMARY:Deutsch B1 Werte und Orientierungswissen, Vormittagskurs (AK5030) 
LOCATION:VHS Bludenz (bei Fa. Stolz), Seminarraum 1, Zürcherstr. 48, 6700 Bludenz
END:VEVENT
BEGIN:VEVENT
DTSTAMP:20260421T034724
DTSTART;TZID=Europe/Berlin:20261013T083000
DTEND;TZID=Europe/Berlin:20261013T113000
UID:AK5030-20261013T083000@VHSBLUDENZ
SUMMARY:Deutsch B1 Werte und Orientierungswissen, Vormittagskurs (AK5030) 
LOCATION:VHS Bludenz (bei Fa. Stolz), Seminarraum 1, Zürcherstr. 48, 6700 Bludenz
END:VEVENT
BEGIN:VEVENT
DTSTAMP:20260421T034724
DTSTART;TZID=Europe/Berlin:20261015T083000
DTEND;TZID=Europe/Berlin:20261015T113000
UID:AK5030-20261015T083000@VHSBLUDENZ
SUMMARY:Deutsch B1 Werte und Orientierungswissen, Vormittagskurs (AK5030) 
LOCATION:VHS Bludenz (bei Fa. Stolz), Seminarraum 1, Zürcherstr. 48, 6700 Bludenz
END:VEVENT
BEGIN:VEVENT
DTSTAMP:20260421T034724
DTSTART;TZID=Europe/Berlin:20261016T083000
DTEND;TZID=Europe/Berlin:20261016T113000
UID:AK5030-20261016T083000@VHSBLUDENZ
SUMMARY:Deutsch B1 Werte und Orientierungswissen, Vormittagskurs (AK5030) 
LOCATION:VHS Bludenz (bei Fa. Stolz), Seminarraum 1, Zürcherstr. 48, 6700 Bludenz
END:VEVENT
BEGIN:VEVENT
DTSTAMP:20260421T034724
DTSTART;TZID=Europe/Berlin:20261019T083000
DTEND;TZID=Europe/Berlin:20261019T113000
UID:AK5030-20261019T083000@VHSBLUDENZ
SUMMARY:Deutsch B1 Werte und Orientierungswissen, Vormittagskurs (AK5030) 
LOCATION:VHS Bludenz (bei Fa. Stolz), Seminarraum 1, Zürcherstr. 48, 6700 Bludenz
END:VEVENT
BEGIN:VEVENT
DTSTAMP:20260421T034724
DTSTART;TZID=Europe/Berlin:20261020T083000
DTEND;TZID=Europe/Berlin:20261020T113000
UID:AK5030-20261020T083000@VHSBLUDENZ
SUMMARY:Deutsch B1 Werte und Orientierungswissen, Vormittagskurs (AK5030) 
LOCATION:VHS Bludenz (bei Fa. Stolz), Seminarraum 1, Zürcherstr. 48, 6700 Bludenz
END:VEVENT
BEGIN:VEVENT
DTSTAMP:20260421T034724
DTSTART;TZID=Europe/Berlin:20261022T083000
DTEND;TZID=Europe/Berlin:20261022T113000
UID:AK5030-20261022T083000@VHSBLUDENZ
SUMMARY:Deutsch B1 Werte und Orientierungswissen, Vormittagskurs (AK5030) 
LOCATION:VHS Bludenz (bei Fa. Stolz), Seminarraum 1, Zürcherstr. 48, 6700 Bludenz
END:VEVENT
BEGIN:VEVENT
DTSTAMP:20260421T034724
DTSTART;TZID=Europe/Berlin:20261023T083000
DTEND;TZID=Europe/Berlin:20261023T113000
UID:AK5030-20261023T083000@VHSBLUDENZ
SUMMARY:Deutsch B1 Werte und Orientierungswissen, Vormittagskurs (AK5030) 
LOCATION:VHS Bludenz (bei Fa. Stolz), Seminarraum 1, Zürcherstr. 48, 6700 Bludenz
END:VEVENT
BEGIN:VEVENT
DTSTAMP:20260421T034724
DTSTART;TZID=Europe/Berlin:20261103T083000
DTEND;TZID=Europe/Berlin:20261103T113000
UID:AK5030-20261103T083000@VHSBLUDENZ
SUMMARY:Deutsch B1 Werte und Orientierungswissen, Vormittagskurs (AK5030) 
LOCATION:VHS Bludenz (bei Fa. Stolz), Seminarraum 1, Zürcherstr. 48, 6700 Bludenz
END:VEVENT
BEGIN:VEVENT
DTSTAMP:20260421T034724
DTSTART;TZID=Europe/Berlin:20261105T083000
DTEND;TZID=Europe/Berlin:20261105T113000
UID:AK5030-20261105T083000@VHSBLUDENZ
SUMMARY:Deutsch B1 Werte und Orientierungswissen, Vormittagskurs (AK5030) 
LOCATION:VHS Bludenz (bei Fa. Stolz), Seminarraum 1, Zürcherstr. 48, 6700 Bludenz
END:VEVENT
BEGIN:VEVENT
DTSTAMP:20260421T034724
DTSTART;TZID=Europe/Berlin:20261106T083000
DTEND;TZID=Europe/Berlin:20261106T113000
UID:AK5030-20261106T083000@VHSBLUDENZ
SUMMARY:Deutsch B1 Werte und Orientierungswissen, Vormittagskurs (AK5030) 
LOCATION:VHS Bludenz (bei Fa. Stolz), Seminarraum 1, Zürcherstr. 48, 6700 Bludenz
END:VEVENT
BEGIN:VEVENT
DTSTAMP:20260421T034724
DTSTART;TZID=Europe/Berlin:20261109T083000
DTEND;TZID=Europe/Berlin:20261109T113000
UID:AK5030-20261109T083000@VHSBLUDENZ
SUMMARY:Deutsch B1 Werte und Orientierungswissen, Vormittagskurs (AK5030) 
LOCATION:VHS Bludenz (bei Fa. Stolz), Seminarraum 1, Zürcherstr. 48, 6700 Bludenz
END:VEVENT
BEGIN:VEVENT
DTSTAMP:20260421T034724
DTSTART;TZID=Europe/Berlin:20261110T083000
DTEND;TZID=Europe/Berlin:20261110T113000
UID:AK5030-20261110T083000@VHSBLUDENZ
SUMMARY:Deutsch B1 Werte und Orientierungswissen, Vormittagskurs (AK5030) 
LOCATION:VHS Bludenz (bei Fa. Stolz), Seminarraum 1, Zürcherstr. 48, 6700 Bludenz
END:VEVENT
BEGIN:VEVENT
DTSTAMP:20260421T034724
DTSTART;TZID=Europe/Berlin:20261112T083000
DTEND;TZID=Europe/Berlin:20261112T113000
UID:AK5030-20261112T083000@VHSBLUDENZ
SUMMARY:Deutsch B1 Werte und Orientierungswissen, Vormittagskurs (AK5030) 
LOCATION:VHS Bludenz (bei Fa. Stolz), Seminarraum 1, Zürcherstr. 48, 6700 Bludenz
END:VEVENT
BEGIN:VEVENT
DTSTAMP:20260421T034724
DTSTART;TZID=Europe/Berlin:20261113T083000
DTEND;TZID=Europe/Berlin:20261113T113000
UID:AK5030-20261113T083000@VHSBLUDENZ
SUMMARY:Deutsch B1 Werte und Orientierungswissen, Vormittagskurs (AK5030) 
LOCATION:VHS Bludenz (bei Fa. Stolz), Seminarraum 1, Zürcherstr. 48, 6700 Bludenz
END:VEVENT
BEGIN:VEVENT
DTSTAMP:20260421T034724
DTSTART;TZID=Europe/Berlin:20261116T083000
DTEND;TZID=Europe/Berlin:20261116T113000
UID:AK5030-20261116T083000@VHSBLUDENZ
SUMMARY:Deutsch B1 Werte und Orientierungswissen, Vormittagskurs (AK5030) 
LOCATION:VHS Bludenz (bei Fa. Stolz), Seminarraum 1, Zürcherstr. 48, 6700 Bludenz
END:VEVENT
BEGIN:VEVENT
DTSTAMP:20260421T034724
DTSTART;TZID=Europe/Berlin:20261117T083000
DTEND;TZID=Europe/Berlin:20261117T113000
UID:AK5030-20261117T083000@VHSBLUDENZ
SUMMARY:Deutsch B1 Werte und Orientierungswissen, Vormittagskurs (AK5030) 
LOCATION:VHS Bludenz (bei Fa. Stolz), Seminarraum 1, Zürcherstr. 48, 6700 Bludenz
END:VEVENT
BEGIN:VEVENT
DTSTAMP:20260421T034724
DTSTART;TZID=Europe/Berlin:20261119T083000
DTEND;TZID=Europe/Berlin:20261119T113000
UID:AK5030-20261119T083000@VHSBLUDENZ
SUMMARY:Deutsch B1 Werte und Orientierungswissen, Vormittagskurs (AK5030) 
LOCATION:VHS Bludenz (bei Fa. Stolz), Seminarraum 1, Zürcherstr. 48, 6700 Bludenz
END:VEVENT
BEGIN:VEVENT
DTSTAMP:20260421T034724
DTSTART;TZID=Europe/Berlin:20261120T083000
DTEND;TZID=Europe/Berlin:20261120T113000
UID:AK5030-20261120T083000@VHSBLUDENZ
SUMMARY:Deutsch B1 Werte und Orientierungswissen, Vormittagskurs (AK5030) 
LOCATION:VHS Bludenz (bei Fa. Stolz), Seminarraum 1, Zürcherstr. 48, 6700 Bludenz
END:VEVENT
BEGIN:VEVENT
DTSTAMP:20260421T034724
DTSTART;TZID=Europe/Berlin:20261123T083000
DTEND;TZID=Europe/Berlin:20261123T113000
UID:AK5030-20261123T083000@VHSBLUDENZ
SUMMARY:Deutsch B1 Werte und Orientierungswissen, Vormittagskurs (AK5030) 
LOCATION:VHS Bludenz (bei Fa. Stolz), Seminarraum 1, Zürcherstr. 48, 6700 Bludenz
END:VEVENT
BEGIN:VEVENT
DTSTAMP:20260421T034724
DTSTART;TZID=Europe/Berlin:20261124T083000
DTEND;TZID=Europe/Berlin:20261124T113000
UID:AK5030-20261124T083000@VHSBLUDENZ
SUMMARY:Deutsch B1 Werte und Orientierungswissen, Vormittagskurs (AK5030) 
LOCATION:VHS Bludenz (bei Fa. Stolz), Seminarraum 1, Zürcherstr. 48, 6700 Bludenz
END:VEVENT
BEGIN:VEVENT
DTSTAMP:20260421T034724
DTSTART;TZID=Europe/Berlin:20261126T083000
DTEND;TZID=Europe/Berlin:20261126T113000
UID:AK5030-20261126T083000@VHSBLUDENZ
SUMMARY:Deutsch B1 Werte und Orientierungswissen, Vormittagskurs (AK5030) 
LOCATION:VHS Bludenz (bei Fa. Stolz), Seminarraum 1, Zürcherstr. 48, 6700 Bludenz
END:VEVENT
BEGIN:VEVENT
DTSTAMP:20260421T034724
DTSTART;TZID=Europe/Berlin:20261127T083000
DTEND;TZID=Europe/Berlin:20261127T113000
UID:AK5030-20261127T083000@VHSBLUDENZ
SUMMARY:Deutsch B1 Werte und Orientierungswissen, Vormittagskurs (AK5030) 
LOCATION:VHS Bludenz (bei Fa. Stolz), Seminarraum 1, Zürcherstr. 48, 6700 Bludenz
END:VEVENT
BEGIN:VEVENT
DTSTAMP:20260421T034724
DTSTART;TZID=Europe/Berlin:20261130T083000
DTEND;TZID=Europe/Berlin:20261130T113000
UID:AK5030-20261130T083000@VHSBLUDENZ
SUMMARY:Deutsch B1 Werte und Orientierungswissen, Vormittagskurs (AK5030) 
LOCATION:VHS Bludenz (bei Fa. Stolz), Seminarraum 1, Zürcherstr. 48, 6700 Bludenz
END:VEVENT
BEGIN:VEVENT
DTSTAMP:20260421T034724
DTSTART;TZID=Europe/Berlin:20261201T083000
DTEND;TZID=Europe/Berlin:20261201T113000
UID:AK5030-20261201T083000@VHSBLUDENZ
SUMMARY:Deutsch B1 Werte und Orientierungswissen, Vormittagskurs (AK5030) 
LOCATION:VHS Bludenz (bei Fa. Stolz), Seminarraum 1, Zürcherstr. 48, 6700 Bludenz
END:VEVENT
BEGIN:VEVENT
DTSTAMP:20260421T034724
DTSTART;TZID=Europe/Berlin:20261203T083000
DTEND;TZID=Europe/Berlin:20261203T113000
UID:AK5030-20261203T083000@VHSBLUDENZ
SUMMARY:Deutsch B1 Werte und Orientierungswissen, Vormittagskurs (AK5030) 
LOCATION:VHS Bludenz (bei Fa. Stolz), Seminarraum 1, Zürcherstr. 48, 6700 Bludenz
END:VEVENT
BEGIN:VEVENT
DTSTAMP:20260421T034724
DTSTART;TZID=Europe/Berlin:20261204T083000
DTEND;TZID=Europe/Berlin:20261204T113000
UID:AK5030-20261204T083000@VHSBLUDENZ
SUMMARY:Deutsch B1 Werte und Orientierungswissen, Vormittagskurs (AK5030) 
LOCATION:VHS Bludenz (bei Fa. Stolz), Seminarraum 1, Zürcherstr. 48, 6700 Bludenz
END:VEVENT
BEGIN:VEVENT
DTSTAMP:20260421T034724
DTSTART;TZID=Europe/Berlin:20261207T083000
DTEND;TZID=Europe/Berlin:20261207T103000
UID:AK5030-20261207T083000@VHSBLUDENZ
SUMMARY:Deutsch B1 Werte und Orientierungswissen, Vormittagskurs (AK5030) 
LOCATION:VHS Bludenz (bei Fa. Stolz), Seminarraum 1, Zürcherstr. 48, 6700 Bludenz
END:VEVENT
END:VCALENDAR