BEGIN:VCALENDAR
VERSION:2.0
PRODID:https://www.kufer.de/kuferweb / DE
METHOD:PUBLISH
CALSCALE:GREGORIAN
X-WR-TIMEZONE:Europe/Berlin
BEGIN:VTIMEZONE
TZID:Europe/Berlin
X-LIC-LOCATION:Europe/Berlin
BEGIN:DAYLIGHT
TZOFFSETFROM:+0100
TZOFFSETTO:+0200
TZNAME:CEST
DTSTART:19700329T020000
RRULE:FREQ=YEARLY;INTERVAL=1;BYDAY=-1SU;BYMONTH=3
END:DAYLIGHT
BEGIN:STANDARD
TZOFFSETFROM:+0200
TZOFFSETTO:+0100
TZNAME:CET
DTSTART:19701025T030000
RRULE:FREQ=YEARLY;INTERVAL=1;BYDAY=-1SU;BYMONTH=10
END:STANDARD
END:VTIMEZONE
BEGIN:VEVENT
DTSTAMP:20260421T033316
DTSTART;TZID=Europe/Berlin:20260924T083000
DTEND;TZID=Europe/Berlin:20260924T114500
UID:AK5041-20260924T083000@VHSBLUDENZ
SUMMARY:Deutsch B2 Werte und Orientierungswissen, Vormittagskurs (AK5041) 
LOCATION:VHS Bludenz (bei Fa. Stolz), Seminarraum 2, Zürcherstr. 48, 6700 Bludenz
END:VEVENT
BEGIN:VEVENT
DTSTAMP:20260421T033316
DTSTART;TZID=Europe/Berlin:20260928T083000
DTEND;TZID=Europe/Berlin:20260928T114500
UID:AK5041-20260928T083000@VHSBLUDENZ
SUMMARY:Deutsch B2 Werte und Orientierungswissen, Vormittagskurs (AK5041) 
LOCATION:VHS Bludenz (bei Fa. Stolz), Seminarraum 2, Zürcherstr. 48, 6700 Bludenz
END:VEVENT
BEGIN:VEVENT
DTSTAMP:20260421T033316
DTSTART;TZID=Europe/Berlin:20260929T083000
DTEND;TZID=Europe/Berlin:20260929T114500
UID:AK5041-20260929T083000@VHSBLUDENZ
SUMMARY:Deutsch B2 Werte und Orientierungswissen, Vormittagskurs (AK5041) 
LOCATION:VHS Bludenz (bei Fa. Stolz), Seminarraum 2, Zürcherstr. 48, 6700 Bludenz
END:VEVENT
BEGIN:VEVENT
DTSTAMP:20260421T033316
DTSTART;TZID=Europe/Berlin:20260930T083000
DTEND;TZID=Europe/Berlin:20260930T114500
UID:AK5041-20260930T083000@VHSBLUDENZ
SUMMARY:Deutsch B2 Werte und Orientierungswissen, Vormittagskurs (AK5041) 
LOCATION:VHS Bludenz (bei Fa. Stolz), Seminarraum 2, Zürcherstr. 48, 6700 Bludenz
END:VEVENT
BEGIN:VEVENT
DTSTAMP:20260421T033316
DTSTART;TZID=Europe/Berlin:20261001T083000
DTEND;TZID=Europe/Berlin:20261001T114500
UID:AK5041-20261001T083000@VHSBLUDENZ
SUMMARY:Deutsch B2 Werte und Orientierungswissen, Vormittagskurs (AK5041) 
LOCATION:VHS Bludenz (bei Fa. Stolz), Seminarraum 2, Zürcherstr. 48, 6700 Bludenz
END:VEVENT
BEGIN:VEVENT
DTSTAMP:20260421T033316
DTSTART;TZID=Europe/Berlin:20261005T083000
DTEND;TZID=Europe/Berlin:20261005T114500
UID:AK5041-20261005T083000@VHSBLUDENZ
SUMMARY:Deutsch B2 Werte und Orientierungswissen, Vormittagskurs (AK5041) 
LOCATION:VHS Bludenz (bei Fa. Stolz), Seminarraum 2, Zürcherstr. 48, 6700 Bludenz
END:VEVENT
BEGIN:VEVENT
DTSTAMP:20260421T033316
DTSTART;TZID=Europe/Berlin:20261006T083000
DTEND;TZID=Europe/Berlin:20261006T114500
UID:AK5041-20261006T083000@VHSBLUDENZ
SUMMARY:Deutsch B2 Werte und Orientierungswissen, Vormittagskurs (AK5041) 
LOCATION:VHS Bludenz (bei Fa. Stolz), Seminarraum 2, Zürcherstr. 48, 6700 Bludenz
END:VEVENT
BEGIN:VEVENT
DTSTAMP:20260421T033316
DTSTART;TZID=Europe/Berlin:20261007T083000
DTEND;TZID=Europe/Berlin:20261007T114500
UID:AK5041-20261007T083000@VHSBLUDENZ
SUMMARY:Deutsch B2 Werte und Orientierungswissen, Vormittagskurs (AK5041) 
LOCATION:VHS Bludenz (bei Fa. Stolz), Seminarraum 2, Zürcherstr. 48, 6700 Bludenz
END:VEVENT
BEGIN:VEVENT
DTSTAMP:20260421T033316
DTSTART;TZID=Europe/Berlin:20261008T083000
DTEND;TZID=Europe/Berlin:20261008T114500
UID:AK5041-20261008T083000@VHSBLUDENZ
SUMMARY:Deutsch B2 Werte und Orientierungswissen, Vormittagskurs (AK5041) 
LOCATION:VHS Bludenz (bei Fa. Stolz), Seminarraum 2, Zürcherstr. 48, 6700 Bludenz
END:VEVENT
BEGIN:VEVENT
DTSTAMP:20260421T033316
DTSTART;TZID=Europe/Berlin:20261012T083000
DTEND;TZID=Europe/Berlin:20261012T114500
UID:AK5041-20261012T083000@VHSBLUDENZ
SUMMARY:Deutsch B2 Werte und Orientierungswissen, Vormittagskurs (AK5041) 
LOCATION:VHS Bludenz (bei Fa. Stolz), Seminarraum 2, Zürcherstr. 48, 6700 Bludenz
END:VEVENT
BEGIN:VEVENT
DTSTAMP:20260421T033316
DTSTART;TZID=Europe/Berlin:20261013T083000
DTEND;TZID=Europe/Berlin:20261013T114500
UID:AK5041-20261013T083000@VHSBLUDENZ
SUMMARY:Deutsch B2 Werte und Orientierungswissen, Vormittagskurs (AK5041) 
LOCATION:VHS Bludenz (bei Fa. Stolz), Seminarraum 2, Zürcherstr. 48, 6700 Bludenz
END:VEVENT
BEGIN:VEVENT
DTSTAMP:20260421T033316
DTSTART;TZID=Europe/Berlin:20261014T083000
DTEND;TZID=Europe/Berlin:20261014T114500
UID:AK5041-20261014T083000@VHSBLUDENZ
SUMMARY:Deutsch B2 Werte und Orientierungswissen, Vormittagskurs (AK5041) 
LOCATION:VHS Bludenz (bei Fa. Stolz), Seminarraum 2, Zürcherstr. 48, 6700 Bludenz
END:VEVENT
BEGIN:VEVENT
DTSTAMP:20260421T033316
DTSTART;TZID=Europe/Berlin:20261015T083000
DTEND;TZID=Europe/Berlin:20261015T114500
UID:AK5041-20261015T083000@VHSBLUDENZ
SUMMARY:Deutsch B2 Werte und Orientierungswissen, Vormittagskurs (AK5041) 
LOCATION:VHS Bludenz (bei Fa. Stolz), Seminarraum 2, Zürcherstr. 48, 6700 Bludenz
END:VEVENT
BEGIN:VEVENT
DTSTAMP:20260421T033316
DTSTART;TZID=Europe/Berlin:20261019T083000
DTEND;TZID=Europe/Berlin:20261019T114500
UID:AK5041-20261019T083000@VHSBLUDENZ
SUMMARY:Deutsch B2 Werte und Orientierungswissen, Vormittagskurs (AK5041) 
LOCATION:VHS Bludenz (bei Fa. Stolz), Seminarraum 2, Zürcherstr. 48, 6700 Bludenz
END:VEVENT
BEGIN:VEVENT
DTSTAMP:20260421T033316
DTSTART;TZID=Europe/Berlin:20261020T083000
DTEND;TZID=Europe/Berlin:20261020T114500
UID:AK5041-20261020T083000@VHSBLUDENZ
SUMMARY:Deutsch B2 Werte und Orientierungswissen, Vormittagskurs (AK5041) 
LOCATION:VHS Bludenz (bei Fa. Stolz), Seminarraum 2, Zürcherstr. 48, 6700 Bludenz
END:VEVENT
BEGIN:VEVENT
DTSTAMP:20260421T033316
DTSTART;TZID=Europe/Berlin:20261021T083000
DTEND;TZID=Europe/Berlin:20261021T114500
UID:AK5041-20261021T083000@VHSBLUDENZ
SUMMARY:Deutsch B2 Werte und Orientierungswissen, Vormittagskurs (AK5041) 
LOCATION:VHS Bludenz (bei Fa. Stolz), Seminarraum 2, Zürcherstr. 48, 6700 Bludenz
END:VEVENT
BEGIN:VEVENT
DTSTAMP:20260421T033316
DTSTART;TZID=Europe/Berlin:20261022T083000
DTEND;TZID=Europe/Berlin:20261022T114500
UID:AK5041-20261022T083000@VHSBLUDENZ
SUMMARY:Deutsch B2 Werte und Orientierungswissen, Vormittagskurs (AK5041) 
LOCATION:VHS Bludenz (bei Fa. Stolz), Seminarraum 2, Zürcherstr. 48, 6700 Bludenz
END:VEVENT
BEGIN:VEVENT
DTSTAMP:20260421T033316
DTSTART;TZID=Europe/Berlin:20261103T083000
DTEND;TZID=Europe/Berlin:20261103T114500
UID:AK5041-20261103T083000@VHSBLUDENZ
SUMMARY:Deutsch B2 Werte und Orientierungswissen, Vormittagskurs (AK5041) 
LOCATION:VHS Bludenz (bei Fa. Stolz), Seminarraum 2, Zürcherstr. 48, 6700 Bludenz
END:VEVENT
BEGIN:VEVENT
DTSTAMP:20260421T033316
DTSTART;TZID=Europe/Berlin:20261104T083000
DTEND;TZID=Europe/Berlin:20261104T114500
UID:AK5041-20261104T083000@VHSBLUDENZ
SUMMARY:Deutsch B2 Werte und Orientierungswissen, Vormittagskurs (AK5041) 
LOCATION:VHS Bludenz (bei Fa. Stolz), Seminarraum 2, Zürcherstr. 48, 6700 Bludenz
END:VEVENT
BEGIN:VEVENT
DTSTAMP:20260421T033316
DTSTART;TZID=Europe/Berlin:20261105T083000
DTEND;TZID=Europe/Berlin:20261105T114500
UID:AK5041-20261105T083000@VHSBLUDENZ
SUMMARY:Deutsch B2 Werte und Orientierungswissen, Vormittagskurs (AK5041) 
LOCATION:VHS Bludenz (bei Fa. Stolz), Seminarraum 2, Zürcherstr. 48, 6700 Bludenz
END:VEVENT
BEGIN:VEVENT
DTSTAMP:20260421T033316
DTSTART;TZID=Europe/Berlin:20261109T083000
DTEND;TZID=Europe/Berlin:20261109T114500
UID:AK5041-20261109T083000@VHSBLUDENZ
SUMMARY:Deutsch B2 Werte und Orientierungswissen, Vormittagskurs (AK5041) 
LOCATION:VHS Bludenz (bei Fa. Stolz), Seminarraum 2, Zürcherstr. 48, 6700 Bludenz
END:VEVENT
BEGIN:VEVENT
DTSTAMP:20260421T033316
DTSTART;TZID=Europe/Berlin:20261110T083000
DTEND;TZID=Europe/Berlin:20261110T114500
UID:AK5041-20261110T083000@VHSBLUDENZ
SUMMARY:Deutsch B2 Werte und Orientierungswissen, Vormittagskurs (AK5041) 
LOCATION:VHS Bludenz (bei Fa. Stolz), Seminarraum 2, Zürcherstr. 48, 6700 Bludenz
END:VEVENT
BEGIN:VEVENT
DTSTAMP:20260421T033316
DTSTART;TZID=Europe/Berlin:20261111T083000
DTEND;TZID=Europe/Berlin:20261111T114500
UID:AK5041-20261111T083000@VHSBLUDENZ
SUMMARY:Deutsch B2 Werte und Orientierungswissen, Vormittagskurs (AK5041) 
LOCATION:VHS Bludenz (bei Fa. Stolz), Seminarraum 2, Zürcherstr. 48, 6700 Bludenz
END:VEVENT
BEGIN:VEVENT
DTSTAMP:20260421T033316
DTSTART;TZID=Europe/Berlin:20261112T083000
DTEND;TZID=Europe/Berlin:20261112T114500
UID:AK5041-20261112T083000@VHSBLUDENZ
SUMMARY:Deutsch B2 Werte und Orientierungswissen, Vormittagskurs (AK5041) 
LOCATION:VHS Bludenz (bei Fa. Stolz), Seminarraum 2, Zürcherstr. 48, 6700 Bludenz
END:VEVENT
BEGIN:VEVENT
DTSTAMP:20260421T033316
DTSTART;TZID=Europe/Berlin:20261116T083000
DTEND;TZID=Europe/Berlin:20261116T114500
UID:AK5041-20261116T083000@VHSBLUDENZ
SUMMARY:Deutsch B2 Werte und Orientierungswissen, Vormittagskurs (AK5041) 
LOCATION:VHS Bludenz (bei Fa. Stolz), Seminarraum 2, Zürcherstr. 48, 6700 Bludenz
END:VEVENT
BEGIN:VEVENT
DTSTAMP:20260421T033316
DTSTART;TZID=Europe/Berlin:20261117T083000
DTEND;TZID=Europe/Berlin:20261117T114500
UID:AK5041-20261117T083000@VHSBLUDENZ
SUMMARY:Deutsch B2 Werte und Orientierungswissen, Vormittagskurs (AK5041) 
LOCATION:VHS Bludenz (bei Fa. Stolz), Seminarraum 2, Zürcherstr. 48, 6700 Bludenz
END:VEVENT
BEGIN:VEVENT
DTSTAMP:20260421T033316
DTSTART;TZID=Europe/Berlin:20261118T083000
DTEND;TZID=Europe/Berlin:20261118T114500
UID:AK5041-20261118T083000@VHSBLUDENZ
SUMMARY:Deutsch B2 Werte und Orientierungswissen, Vormittagskurs (AK5041) 
LOCATION:VHS Bludenz (bei Fa. Stolz), Seminarraum 2, Zürcherstr. 48, 6700 Bludenz
END:VEVENT
BEGIN:VEVENT
DTSTAMP:20260421T033316
DTSTART;TZID=Europe/Berlin:20261119T083000
DTEND;TZID=Europe/Berlin:20261119T114500
UID:AK5041-20261119T083000@VHSBLUDENZ
SUMMARY:Deutsch B2 Werte und Orientierungswissen, Vormittagskurs (AK5041) 
LOCATION:VHS Bludenz (bei Fa. Stolz), Seminarraum 2, Zürcherstr. 48, 6700 Bludenz
END:VEVENT
BEGIN:VEVENT
DTSTAMP:20260421T033316
DTSTART;TZID=Europe/Berlin:20261123T083000
DTEND;TZID=Europe/Berlin:20261123T114500
UID:AK5041-20261123T083000@VHSBLUDENZ
SUMMARY:Deutsch B2 Werte und Orientierungswissen, Vormittagskurs (AK5041) 
LOCATION:VHS Bludenz (bei Fa. Stolz), Seminarraum 2, Zürcherstr. 48, 6700 Bludenz
END:VEVENT
BEGIN:VEVENT
DTSTAMP:20260421T033316
DTSTART;TZID=Europe/Berlin:20261124T083000
DTEND;TZID=Europe/Berlin:20261124T114500
UID:AK5041-20261124T083000@VHSBLUDENZ
SUMMARY:Deutsch B2 Werte und Orientierungswissen, Vormittagskurs (AK5041) 
LOCATION:VHS Bludenz (bei Fa. Stolz), Seminarraum 2, Zürcherstr. 48, 6700 Bludenz
END:VEVENT
BEGIN:VEVENT
DTSTAMP:20260421T033316
DTSTART;TZID=Europe/Berlin:20261201T083000
DTEND;TZID=Europe/Berlin:20261201T114500
UID:AK5041-20261201T083000@VHSBLUDENZ
SUMMARY:Deutsch B2 Werte und Orientierungswissen, Vormittagskurs (AK5041) 
LOCATION:VHS Bludenz (bei Fa. Stolz), Seminarraum 2, Zürcherstr. 48, 6700 Bludenz
END:VEVENT
BEGIN:VEVENT
DTSTAMP:20260421T033316
DTSTART;TZID=Europe/Berlin:20261202T083000
DTEND;TZID=Europe/Berlin:20261202T114500
UID:AK5041-20261202T083000@VHSBLUDENZ
SUMMARY:Deutsch B2 Werte und Orientierungswissen, Vormittagskurs (AK5041) 
LOCATION:VHS Bludenz (bei Fa. Stolz), Seminarraum 2, Zürcherstr. 48, 6700 Bludenz
END:VEVENT
BEGIN:VEVENT
DTSTAMP:20260421T033316
DTSTART;TZID=Europe/Berlin:20261203T083000
DTEND;TZID=Europe/Berlin:20261203T114500
UID:AK5041-20261203T083000@VHSBLUDENZ
SUMMARY:Deutsch B2 Werte und Orientierungswissen, Vormittagskurs (AK5041) 
LOCATION:VHS Bludenz (bei Fa. Stolz), Seminarraum 2, Zürcherstr. 48, 6700 Bludenz
END:VEVENT
BEGIN:VEVENT
DTSTAMP:20260421T033316
DTSTART;TZID=Europe/Berlin:20261207T083000
DTEND;TZID=Europe/Berlin:20261207T114500
UID:AK5041-20261207T083000@VHSBLUDENZ
SUMMARY:Deutsch B2 Werte und Orientierungswissen, Vormittagskurs (AK5041) 
LOCATION:VHS Bludenz (bei Fa. Stolz), Seminarraum 2, Zürcherstr. 48, 6700 Bludenz
END:VEVENT
BEGIN:VEVENT
DTSTAMP:20260421T033316
DTSTART;TZID=Europe/Berlin:20261209T083000
DTEND;TZID=Europe/Berlin:20261209T114500
UID:AK5041-20261209T083000@VHSBLUDENZ
SUMMARY:Deutsch B2 Werte und Orientierungswissen, Vormittagskurs (AK5041) 
LOCATION:VHS Bludenz (bei Fa. Stolz), Seminarraum 2, Zürcherstr. 48, 6700 Bludenz
END:VEVENT
BEGIN:VEVENT
DTSTAMP:20260421T033316
DTSTART;TZID=Europe/Berlin:20261210T083000
DTEND;TZID=Europe/Berlin:20261210T114500
UID:AK5041-20261210T083000@VHSBLUDENZ
SUMMARY:Deutsch B2 Werte und Orientierungswissen, Vormittagskurs (AK5041) 
LOCATION:VHS Bludenz (bei Fa. Stolz), Seminarraum 2, Zürcherstr. 48, 6700 Bludenz
END:VEVENT
BEGIN:VEVENT
DTSTAMP:20260421T033316
DTSTART;TZID=Europe/Berlin:20261214T083000
DTEND;TZID=Europe/Berlin:20261214T114500
UID:AK5041-20261214T083000@VHSBLUDENZ
SUMMARY:Deutsch B2 Werte und Orientierungswissen, Vormittagskurs (AK5041) 
LOCATION:VHS Bludenz (bei Fa. Stolz), Seminarraum 2, Zürcherstr. 48, 6700 Bludenz
END:VEVENT
BEGIN:VEVENT
DTSTAMP:20260421T033316
DTSTART;TZID=Europe/Berlin:20261215T083000
DTEND;TZID=Europe/Berlin:20261215T114500
UID:AK5041-20261215T083000@VHSBLUDENZ
SUMMARY:Deutsch B2 Werte und Orientierungswissen, Vormittagskurs (AK5041) 
LOCATION:VHS Bludenz (bei Fa. Stolz), Seminarraum 2, Zürcherstr. 48, 6700 Bludenz
END:VEVENT
BEGIN:VEVENT
DTSTAMP:20260421T033316
DTSTART;TZID=Europe/Berlin:20261216T083000
DTEND;TZID=Europe/Berlin:20261216T100000
UID:AK5041-20261216T083000@VHSBLUDENZ
SUMMARY:Deutsch B2 Werte und Orientierungswissen, Vormittagskurs (AK5041) 
LOCATION:VHS Bludenz (bei Fa. Stolz), Seminarraum 2, Zürcherstr. 48, 6700 Bludenz
END:VEVENT
END:VCALENDAR